BEGIN:VCALENDAR
VERSION:2.0
PRODID:-//Dr. Hannes Proeller Apotheken - Naturheilkunde verinnerlicht - ECPv6.15.20//NONSGML v1.0//EN
CALSCALE:GREGORIAN
METHOD:PUBLISH
X-ORIGINAL-URL:https://www.dr-hannes-proeller.de
X-WR-CALDESC:Veranstaltungen für Dr. Hannes Proeller Apotheken - Naturheilkunde verinnerlicht
REFRESH-INTERVAL;VALUE=DURATION:PT1H
X-Robots-Tag:noindex
X-PUBLISHED-TTL:PT1H
BEGIN:VTIMEZONE
TZID:Europe/Berlin
BEGIN:DAYLIGHT
TZOFFSETFROM:+0100
TZOFFSETTO:+0200
TZNAME:CEST
DTSTART:20250330T010000
END:DAYLIGHT
BEGIN:STANDARD
TZOFFSETFROM:+0200
TZOFFSETTO:+0100
TZNAME:CET
DTSTART:20251026T010000
END:STANDARD
BEGIN:DAYLIGHT
TZOFFSETFROM:+0100
TZOFFSETTO:+0200
TZNAME:CEST
DTSTART:20260329T010000
END:DAYLIGHT
BEGIN:STANDARD
TZOFFSETFROM:+0200
TZOFFSETTO:+0100
TZNAME:CET
DTSTART:20261025T010000
END:STANDARD
BEGIN:DAYLIGHT
TZOFFSETFROM:+0100
TZOFFSETTO:+0200
TZNAME:CEST
DTSTART:20270328T010000
END:DAYLIGHT
BEGIN:STANDARD
TZOFFSETFROM:+0200
TZOFFSETTO:+0100
TZNAME:CET
DTSTART:20271031T010000
END:STANDARD
END:VTIMEZONE
BEGIN:VEVENT
DTSTART;TZID=Europe/Berlin:20260912T143000
DTEND;TZID=Europe/Berlin:20260912T154500
DTSTAMP:20260422T021547
CREATED:20251203T143228Z
LAST-MODIFIED:20251203T143228Z
UID:12029-1789223400-1789227900@www.dr-hannes-proeller.de
SUMMARY:Führung durch die Gudjons Manufaktur
DESCRIPTION:Altes Apothekerhandwerk bestaunen\nDie Gudjons Homöopathie Manufaktur\nSie können jeden Herstellungsschritt der handgefertigten Gudjons-Arzneien Montag bis Freitag zwischen 8:00 und 14:00 Uhr ohne Anmeldung von der Prinzstraße aus ansehen. \nDie Führungen beginnen immer um 14:30 Uhr\nDauer ca. 75 Min.\nTreffpunkt: Seminarraum der Gudjons-Apotheke
URL:https://www.dr-hannes-proeller.de/veranstaltung/fuehrung-gudjons-manufaktur-26-09/
LOCATION:Gudjons Apotheke Augsburg\, Friedrich-Merz-Straße 1\, Augsburg\, 86153\, Deutschland
CATEGORIES:Führung
ATTACH;FMTTYPE=image/x-citrix-jpeg:https://www.dr-hannes-proeller.de/wp-content/uploads/herstellung-3.jpg
END:VEVENT
BEGIN:VEVENT
DTSTART;TZID=Europe/Berlin:20260912T160000
DTEND;TZID=Europe/Berlin:20260912T173000
DTSTAMP:20260422T021547
CREATED:20251203T143926Z
LAST-MODIFIED:20260115T165715Z
UID:12053-1789228800-1789234200@www.dr-hannes-proeller.de
SUMMARY:"Live vor Ort" - Verreiben Sie selbst einen Rohstoff bis zur C-1
DESCRIPTION:Altes Apothekerhandwerk bestaunen und erleben\nnach der Führung ist vor der eigenen Handarbeit!\n  \nUm 16:00 Uhr können Sie selbst einen Rohstoff bis zur C-1 verreiben.\nDer Inhaber\, Dr. Hannes Proeller\, wird gemeinsam mit Ihnen eine Herstellung simulieren. \nSie bekommen von uns alle Utensilien vor Ort gestellt und erleben am eigenen Leib\, was es bedeutet\, Homöopathie so herzustellen\, wie es Hahnemann im Organon VI beschrieben hat. \nEine Anmeldung ist bitte zwingend notwendig\, damit wir planen können. \nAnmeldung:\nper E-Mail unter: erleben@dr-hannes-proeller.de \nKosten:\nVor Ort ist ein Unkostenbeitrag in Höhe von 10\,- €/ Person zu entrichten \n 
URL:https://www.dr-hannes-proeller.de/veranstaltung/verreibung-gudjons-manufaktur-26-09/
LOCATION:Gudjons Apotheke Augsburg\, Friedrich-Merz-Straße 1\, Augsburg\, 86153\, Deutschland
CATEGORIES:Workshop
ATTACH;FMTTYPE=image/x-citrix-jpeg:https://www.dr-hannes-proeller.de/wp-content/uploads/DSC7710.jpg
END:VEVENT
END:VCALENDAR