BEGIN:VCALENDAR
VERSION:2.0
PRODID:-//Dr. Hannes Proeller Apotheken - Naturheilkunde verinnerlicht - ECPv6.15.20//NONSGML v1.0//EN
CALSCALE:GREGORIAN
METHOD:PUBLISH
X-WR-CALNAME:Dr. Hannes Proeller Apotheken - Naturheilkunde verinnerlicht
X-ORIGINAL-URL:https://www.dr-hannes-proeller.de
X-WR-CALDESC:Veranstaltungen für Dr. Hannes Proeller Apotheken - Naturheilkunde verinnerlicht
REFRESH-INTERVAL;VALUE=DURATION:PT1H
X-Robots-Tag:noindex
X-PUBLISHED-TTL:PT1H
BEGIN:VTIMEZONE
TZID:Europe/Berlin
BEGIN:DAYLIGHT
TZOFFSETFROM:+0100
TZOFFSETTO:+0200
TZNAME:CEST
DTSTART:20250330T010000
END:DAYLIGHT
BEGIN:STANDARD
TZOFFSETFROM:+0200
TZOFFSETTO:+0100
TZNAME:CET
DTSTART:20251026T010000
END:STANDARD
BEGIN:DAYLIGHT
TZOFFSETFROM:+0100
TZOFFSETTO:+0200
TZNAME:CEST
DTSTART:20260329T010000
END:DAYLIGHT
BEGIN:STANDARD
TZOFFSETFROM:+0200
TZOFFSETTO:+0100
TZNAME:CET
DTSTART:20261025T010000
END:STANDARD
BEGIN:DAYLIGHT
TZOFFSETFROM:+0100
TZOFFSETTO:+0200
TZNAME:CEST
DTSTART:20270328T010000
END:DAYLIGHT
BEGIN:STANDARD
TZOFFSETFROM:+0200
TZOFFSETTO:+0100
TZNAME:CET
DTSTART:20271031T010000
END:STANDARD
END:VTIMEZONE
BEGIN:VEVENT
DTSTART;TZID=Europe/Berlin:20261010T160000
DTEND;TZID=Europe/Berlin:20261010T173000
DTSTAMP:20260421T194443
CREATED:20251203T143954Z
LAST-MODIFIED:20260115T165740Z
UID:12055-1791648000-1791653400@www.dr-hannes-proeller.de
SUMMARY:"Live vor Ort" - Verreiben Sie selbst einen Rohstoff bis zur C-1
DESCRIPTION:Altes Apothekerhandwerk bestaunen und erleben\nnach der Führung ist vor der eigenen Handarbeit!\n  \nUm 16:00 Uhr können Sie selbst einen Rohstoff bis zur C-1 verreiben.\nDer Inhaber\, Dr. Hannes Proeller\, wird gemeinsam mit Ihnen eine Herstellung simulieren. \nSie bekommen von uns alle Utensilien vor Ort gestellt und erleben am eigenen Leib\, was es bedeutet\, Homöopathie so herzustellen\, wie es Hahnemann im Organon VI beschrieben hat. \nEine Anmeldung ist bitte zwingend notwendig\, damit wir planen können. \nAnmeldung:\nper E-Mail unter: erleben@dr-hannes-proeller.de \nKosten:\nVor Ort ist ein Unkostenbeitrag in Höhe von 10\,- €/ Person zu entrichten \n 
URL:https://www.dr-hannes-proeller.de/veranstaltung/verreibung-gudjons-manufaktur-26-10/
LOCATION:Gudjons Apotheke Augsburg\, Friedrich-Merz-Straße 1\, Augsburg\, 86153\, Deutschland
CATEGORIES:Workshop
ATTACH;FMTTYPE=image/x-citrix-jpeg:https://www.dr-hannes-proeller.de/wp-content/uploads/DSC7710.jpg
END:VEVENT
BEGIN:VEVENT
DTSTART;TZID=Europe/Berlin:20261114T143000
DTEND;TZID=Europe/Berlin:20261114T154500
DTSTAMP:20260421T194443
CREATED:20251203T143321Z
LAST-MODIFIED:20251203T143321Z
UID:12033-1794666600-1794671100@www.dr-hannes-proeller.de
SUMMARY:Führung durch die Gudjons Manufaktur
DESCRIPTION:Altes Apothekerhandwerk bestaunen\nDie Gudjons Homöopathie Manufaktur\nSie können jeden Herstellungsschritt der handgefertigten Gudjons-Arzneien Montag bis Freitag zwischen 8:00 und 14:00 Uhr ohne Anmeldung von der Prinzstraße aus ansehen. \nDie Führungen beginnen immer um 14:30 Uhr\nDauer ca. 75 Min.\nTreffpunkt: Seminarraum der Gudjons-Apotheke
URL:https://www.dr-hannes-proeller.de/veranstaltung/fuehrung-gudjons-manufaktur-26-11/
LOCATION:Gudjons Apotheke Augsburg\, Friedrich-Merz-Straße 1\, Augsburg\, 86153\, Deutschland
CATEGORIES:Führung
ATTACH;FMTTYPE=image/x-citrix-jpeg:https://www.dr-hannes-proeller.de/wp-content/uploads/herstellung-3.jpg
END:VEVENT
BEGIN:VEVENT
DTSTART;TZID=Europe/Berlin:20261114T160000
DTEND;TZID=Europe/Berlin:20261114T173000
DTSTAMP:20260421T194443
CREATED:20260115T165857Z
LAST-MODIFIED:20260115T165857Z
UID:12076-1794672000-1794677400@www.dr-hannes-proeller.de
SUMMARY:"Live vor Ort" - Verreiben Sie selbst einen Rohstoff bis zur C-1
DESCRIPTION:Altes Apothekerhandwerk bestaunen und erleben\nnach der Führung ist vor der eigenen Handarbeit!\n  \nUm 16:00 Uhr können Sie selbst einen Rohstoff bis zur C-1 verreiben.\nDer Inhaber\, Dr. Hannes Proeller\, wird gemeinsam mit Ihnen eine Herstellung simulieren. \nSie bekommen von uns alle Utensilien vor Ort gestellt und erleben am eigenen Leib\, was es bedeutet\, Homöopathie so herzustellen\, wie es Hahnemann im Organon VI beschrieben hat. \nEine Anmeldung ist bitte zwingend notwendig\, damit wir planen können. \nAnmeldung:\nper E-Mail unter: erleben@dr-hannes-proeller.de \nKosten:\nVor Ort ist ein Unkostenbeitrag in Höhe von 10\,- €/ Person zu entrichten \n 
URL:https://www.dr-hannes-proeller.de/veranstaltung/verreibung-gudjons-manufaktur-26-11/
LOCATION:Gudjons Apotheke Augsburg\, Friedrich-Merz-Straße 1\, Augsburg\, 86153\, Deutschland
CATEGORIES:Workshop
ATTACH;FMTTYPE=image/x-citrix-jpeg:https://www.dr-hannes-proeller.de/wp-content/uploads/DSC7710.jpg
END:VEVENT
BEGIN:VEVENT
DTSTART;TZID=Europe/Berlin:20261212T143000
DTEND;TZID=Europe/Berlin:20261212T154500
DTSTAMP:20260421T194443
CREATED:20251203T143352Z
LAST-MODIFIED:20251203T143352Z
UID:12035-1797085800-1797090300@www.dr-hannes-proeller.de
SUMMARY:Führung durch die Gudjons Manufaktur
DESCRIPTION:Altes Apothekerhandwerk bestaunen\nDie Gudjons Homöopathie Manufaktur\nSie können jeden Herstellungsschritt der handgefertigten Gudjons-Arzneien Montag bis Freitag zwischen 8:00 und 14:00 Uhr ohne Anmeldung von der Prinzstraße aus ansehen. \nDie Führungen beginnen immer um 14:30 Uhr\nDauer ca. 75 Min.\nTreffpunkt: Seminarraum der Gudjons-Apotheke
URL:https://www.dr-hannes-proeller.de/veranstaltung/fuehrung-gudjons-manufaktur-26-12/
LOCATION:Gudjons Apotheke Augsburg\, Friedrich-Merz-Straße 1\, Augsburg\, 86153\, Deutschland
CATEGORIES:Führung
ATTACH;FMTTYPE=image/x-citrix-jpeg:https://www.dr-hannes-proeller.de/wp-content/uploads/herstellung-3.jpg
END:VEVENT
BEGIN:VEVENT
DTSTART;TZID=Europe/Berlin:20261212T160000
DTEND;TZID=Europe/Berlin:20261212T173000
DTSTAMP:20260421T194443
CREATED:20251203T144028Z
LAST-MODIFIED:20260115T165814Z
UID:12057-1797091200-1797096600@www.dr-hannes-proeller.de
SUMMARY:"Live vor Ort" - Verreiben Sie selbst einen Rohstoff bis zur C-1
DESCRIPTION:Altes Apothekerhandwerk bestaunen und erleben\nnach der Führung ist vor der eigenen Handarbeit!\n  \nUm 16:00 Uhr können Sie selbst einen Rohstoff bis zur C-1 verreiben.\nDer Inhaber\, Dr. Hannes Proeller\, wird gemeinsam mit Ihnen eine Herstellung simulieren. \nSie bekommen von uns alle Utensilien vor Ort gestellt und erleben am eigenen Leib\, was es bedeutet\, Homöopathie so herzustellen\, wie es Hahnemann im Organon VI beschrieben hat. \nEine Anmeldung ist bitte zwingend notwendig\, damit wir planen können. \nAnmeldung:\nper E-Mail unter: erleben@dr-hannes-proeller.de \nKosten:\nVor Ort ist ein Unkostenbeitrag in Höhe von 10\,- €/ Person zu entrichten \n 
URL:https://www.dr-hannes-proeller.de/veranstaltung/verreibung-gudjons-manufaktur-26-12/
LOCATION:Gudjons Apotheke Augsburg\, Friedrich-Merz-Straße 1\, Augsburg\, 86153\, Deutschland
CATEGORIES:Workshop
ATTACH;FMTTYPE=image/x-citrix-jpeg:https://www.dr-hannes-proeller.de/wp-content/uploads/DSC7710.jpg
END:VEVENT
END:VCALENDAR